Workbook

Sheet Painel
B1: fintay | C1: Painel macroeconômico
C2: Juros, inflação, câmbio e atividade, com as expectativas do mercado.
B4: Desde | D4: 43466 | E4: Data inicial do histórico. Clique em Fintay > Atualizar dados depois de mudar.
B6: Indicadores | D6: Código | E6: Último valor | F6: Data | G6: Há 12 meses
B7: Selic meta (% a.a.) | D7: 432 | E7: {=IFERROR(LOOKUP(2,1/ISNUMBER(INDEX(_xlfn.ANCHORARRAY(Series!$B$5),0,2)),INDEX(_xlfn.ANCHORARRAY(Series!$B$5),0,2)),"")} | F7: {=IFERROR(LOOKUP(2,1/ISNUMBER(INDEX(_xlfn.ANCHORARRAY(Series!$B$5),0,2)),INDEX(_xlfn.ANCHORARRAY(Series!$B$5),0,1)),"")} | G7: {=IFERROR(LOOKUP(2,1/((INDEX(_xlfn.ANCHORARRAY(Series!$B$5),0,1)<=EDATE(F7,-12))*ISNUMBER(INDEX(_xlfn.ANCHORARRAY(Series!$B$5),0,2))),INDEX(_xlfn.ANCHORARRAY(Series!$B$5),0,2)),"")}
B8: IPCA no mês (%) | D8: 433 | E8: {=IFERROR(LOOKUP(2,1/ISNUMBER(INDEX(_xlfn.ANCHORARRAY(Series!$B$5),0,4)),INDEX(_xlfn.ANCHORARRAY(Series!$B$5),0,4)),"")} | F8: {=IFERROR(LOOKUP(2,1/ISNUMBER(INDEX(_xlfn.ANCHORARRAY(Series!$B$5),0,4)),INDEX(_xlfn.ANCHORARRAY(Series!$B$5),0,3)),"")} | G8: {=IFERROR(LOOKUP(2,1/((INDEX(_xlfn.ANCHORARRAY(Series!$B$5),0,3)<=EDATE(F8,-12))*ISNUMBER(INDEX(_xlfn.ANCHORARRAY(Series!$B$5),0,4))),INDEX(_xlfn.ANCHORARRAY(Series!$B$5),0,4)),"")}
B9: Dólar comercial, venda (R$) | D9: 1 | E9: {=IFERROR(LOOKUP(2,1/ISNUMBER(INDEX(_xlfn.ANCHORARRAY(Series!$B$5),0,6)),INDEX(_xlfn.ANCHORARRAY(Series!$B$5),0,6)),"")} | F9: {=IFERROR(LOOKUP(2,1/ISNUMBER(INDEX(_xlfn.ANCHORARRAY(Series!$B$5),0,6)),INDEX(_xlfn.ANCHORARRAY(Series!$B$5),0,5)),"")} | G9: {=IFERROR(LOOKUP(2,1/((INDEX(_xlfn.ANCHORARRAY(Series!$B$5),0,5)<=EDATE(F9,-12))*ISNUMBER(INDEX(_xlfn.ANCHORARRAY(Series!$B$5),0,6))),INDEX(_xlfn.ANCHORARRAY(Series!$B$5),0,6)),"")}
B10: IBC-Br, dessazonalizado | D10: 24364 | E10: {=IFERROR(LOOKUP(2,1/ISNUMBER(INDEX(_xlfn.ANCHORARRAY(Series!$B$5),0,8)),INDEX(_xlfn.ANCHORARRAY(Series!$B$5),0,8)),"")} | F10: {=IFERROR(LOOKUP(2,1/ISNUMBER(INDEX(_xlfn.ANCHORARRAY(Series!$B$5),0,8)),INDEX(_xlfn.ANCHORARRAY(Series!$B$5),0,7)),"")} | G10: {=IFERROR(LOOKUP(2,1/((INDEX(_xlfn.ANCHORARRAY(Series!$B$5),0,7)<=EDATE(F10,-12))*ISNUMBER(INDEX(_xlfn.ANCHORARRAY(Series!$B$5),0,8))),INDEX(_xlfn.ANCHORARRAY(Series!$B$5),0,8)),"")}
B11: IGP-M no mês (%) | D11: 189 | E11: {=IFERROR(LOOKUP(2,1/ISNUMBER(INDEX(_xlfn.ANCHORARRAY(Series!$B$5),0,10)),INDEX(_xlfn.ANCHORARRAY(Series!$B$5),0,10)),"")} | F11: {=IFERROR(LOOKUP(2,1/ISNUMBER(INDEX(_xlfn.ANCHORARRAY(Series!$B$5),0,10)),INDEX(_xlfn.ANCHORARRAY(Series!$B$5),0,9)),"")} | G11: {=IFERROR(LOOKUP(2,1/((INDEX(_xlfn.ANCHORARRAY(Series!$B$5),0,9)<=EDATE(F11,-12))*ISNUMBER(INDEX(_xlfn.ANCHORARRAY(Series!$B$5),0,10))),INDEX(_xlfn.ANCHORARRAY(Series!$B$5),0,10)),"")}
B12: Os códigos são do Sistema Gerenciador de Séries do Banco Central e podem ser trocados por outros. Cada série ocupa duas colunas na aba Series.
B14: Inflação acumulada em 12 meses
B15: IPCA | E15: {=IFERROR(_xlfn.LET(_xlpm.v,_xlfn._xlws.FILTER(INDEX(_xlfn.ANCHORARRAY(Series!$B$5),0,4),ISNUMBER(INDEX(_xlfn.ANCHORARRAY(Series!$B$5),0,4))),PRODUCT(1+_xlfn.TAKE(_xlpm.v,-12)/100)-1),"")} | F15: Composição dos últimos 12 meses da série mensal.
B16: IGP-M | E16: {=IFERROR(_xlfn.LET(_xlpm.v,_xlfn._xlws.FILTER(INDEX(_xlfn.ANCHORARRAY(Series!$B$5),0,10),ISNUMBER(INDEX(_xlfn.ANCHORARRAY(Series!$B$5),0,10))),PRODUCT(1+_xlfn.TAKE(_xlpm.v,-12)/100)-1),"")}
B18: Expectativas do mercado (mediana Focus) | E18: =YEAR(TODAY())+0 -> 2026 | F18: =YEAR(TODAY())+1 -> 2027 | G18: =YEAR(TODAY())+2 -> 2028 | H18: =YEAR(TODAY())+3 -> 2029
B19: IPCA (%) | D19: IPCA | E19: =IFERROR(INDEX(_xlfn.ANCHORARRAY(Focus!$B$5),MATCH($D19,INDEX(_xlfn.ANCHORARRAY(Focus!$B$5),0,1),0),MATCH("values."&E$18&".median",INDEX(_xlfn.ANCHORARRAY(Focus!$B$5),1,0),0)),"") | F19: =IFERROR(INDEX(_xlfn.ANCHORARRAY(Focus!$B$5),MATCH($D19,INDEX(_xlfn.ANCHORARRAY(Focus!$B$5),0,1),0),MATCH("values."&F$18&".median",INDEX(_xlfn.ANCHORARRAY(Focus!$B$5),1,0),0)),"") | G19: =IFERROR(INDEX(_xlfn.ANCHORARRAY(Focus!$B$5),MATCH($D19,INDEX(_xlfn.ANCHORARRAY(Focus!$B$5),0,1),0),MATCH("values."&G$18&".median",INDEX(_xlfn.ANCHORARRAY(Focus!$B$5),1,0),0)),"") | H19: =IFERROR(INDEX(_xlfn.ANCHORARRAY(Focus!$B$5),MATCH($D19,INDEX(_xlfn.ANCHORARRAY(Focus!$B$5),0,1),0),MATCH("values."&H$18&".median",INDEX(_xlfn.ANCHORARRAY(Focus!$B$5),1,0),0)),"")
B20: Selic no fim do ano (% a.a.) | D20: Selic | E20: =IFERROR(INDEX(_xlfn.ANCHORARRAY(Focus!$B$5),MATCH($D20,INDEX(_xlfn.ANCHORARRAY(Focus!$B$5),0,1),0),MATCH("values."&E$18&".median",INDEX(_xlfn.ANCHORARRAY(Focus!$B$5),1,0),0)),"") | F20: =IFERROR(INDEX(_xlfn.ANCHORARRAY(Focus!$B$5),MATCH($D20,INDEX(_xlfn.ANCHORARRAY(Focus!$B$5),0,1),0),MATCH("values."&F$18&".median",INDEX(_xlfn.ANCHORARRAY(Focus!$B$5),1,0),0)),"") | G20: =IFERROR(INDEX(_xlfn.ANCHORARRAY(Focus!$B$5),MATCH($D20,INDEX(_xlfn.ANCHORARRAY(Focus!$B$5),0,1),0),MATCH("values."&G$18&".median",INDEX(_xlfn.ANCHORARRAY(Focus!$B$5),1,0),0)),"") | H20: =IFERROR(INDEX(_xlfn.ANCHORARRAY(Focus!$B$5),MATCH($D20,INDEX(_xlfn.ANCHORARRAY(Focus!$B$5),0,1),0),MATCH("values."&H$18&".median",INDEX(_xlfn.ANCHORARRAY(Focus!$B$5),1,0),0)),"")
B21: Câmbio no fim do ano (R$/US$) | D21: Câmbio | E21: =IFERROR(INDEX(_xlfn.ANCHORARRAY(Focus!$B$5),MATCH($D21,INDEX(_xlfn.ANCHORARRAY(Focus!$B$5),0,1),0),MATCH("values."&E$18&".median",INDEX(_xlfn.ANCHORARRAY(Focus!$B$5),1,0),0)),"") | F21: =IFERROR(INDEX(_xlfn.ANCHORARRAY(Focus!$B$5),MATCH($D21,INDEX(_xlfn.ANCHORARRAY(Focus!$B$5),0,1),0),MATCH("values."&F$18&".median",INDEX(_xlfn.ANCHORARRAY(Focus!$B$5),1,0),0)),"") | G21: =IFERROR(INDEX(_xlfn.ANCHORARRAY(Focus!$B$5),MATCH($D21,INDEX(_xlfn.ANCHORARRAY(Focus!$B$5),0,1),0),MATCH("values."&G$18&".median",INDEX(_xlfn.ANCHORARRAY(Focus!$B$5),1,0),0)),"") | H21: =IFERROR(INDEX(_xlfn.ANCHORARRAY(Focus!$B$5),MATCH($D21,INDEX(_xlfn.ANCHORARRAY(Focus!$B$5),0,1),0),MATCH("values."&H$18&".median",INDEX(_xlfn.ANCHORARRAY(Focus!$B$5),1,0),0)),"")
B22: PIB (% de crescimento) | D22: PIB Total | E22: =IFERROR(INDEX(_xlfn.ANCHORARRAY(Focus!$B$5),MATCH($D22,INDEX(_xlfn.ANCHORARRAY(Focus!$B$5),0,1),0),MATCH("values."&E$18&".median",INDEX(_xlfn.ANCHORARRAY(Focus!$B$5),1,0),0)),"") | F22: =IFERROR(INDEX(_xlfn.ANCHORARRAY(Focus!$B$5),MATCH($D22,INDEX(_xlfn.ANCHORARRAY(Focus!$B$5),0,1),0),MATCH("values."&F$18&".median",INDEX(_xlfn.ANCHORARRAY(Focus!$B$5),1,0),0)),"") | G22: =IFERROR(INDEX(_xlfn.ANCHORARRAY(Focus!$B$5),MATCH($D22,INDEX(_xlfn.ANCHORARRAY(Focus!$B$5),0,1),0),MATCH("values."&G$18&".median",INDEX(_xlfn.ANCHORARRAY(Focus!$B$5),1,0),0)),"") | H22: =IFERROR(INDEX(_xlfn.ANCHORARRAY(Focus!$B$5),MATCH($D22,INDEX(_xlfn.ANCHORARRAY(Focus!$B$5),0,1),0),MATCH("values."&H$18&".median",INDEX(_xlfn.ANCHORARRAY(Focus!$B$5),1,0),0)),"")
B23: Mediana das projeções coletadas pelo Banco Central na pesquisa Focus mais recente.
B26: Legenda
B27: Dados conectados | C27: Vêm da Fintay e mudam quando você clica em Fintay > Atualizar dados.
B28: Suas entradas | C28: Ticker, datas e premissas. Atualizar os dados nunca sobrescreve estas células.
B29: Resultados | C29: Calculados a partir dos dados e das suas entradas.

Sheet Series
B1: fintay | C1: Séries do painel
C2: Histórico das séries escolhidas, lado a lado: data e valor de cada uma.
B4: Dados conectados. Não edite esta aba.
B5: {=Fintay_Bacen_Multi(Painel!$D$7:$D$11,Painel!$D$4)} -> #NAME?

Sheet Focus
B1: fintay | C1: Quadro Focus
C2: Estatísticas das projeções por indicador e ano.
B4: Dados conectados. Não edite esta aba.
B5: {=Fintay_Focus_Quadro("IPCA,Selic,Câmbio,PIB Total","anual",4)} -> #NAME?
