Workbook

Sheet Comparacao
B1: fintay | C1: Comparação de fundos
C2: Retorno, volatilidade, queda máxima e Sharpe no mesmo período.
B4: Fundos (CNPJ, até 20) | D4: Desde | E4: =EDATE(TODAY(),-36) -> 45214 | F4: Três anos atrás; troque por uma data fixa se preferir.
D5: Referência | E5: CDI
D7: Cole os CNPJs (com ou sem pontuação) na coluna B e clique em Fintay > Atualizar dados.
D8: Para achar o CNPJ de um fundo, use a função Fintay_Fundos_Buscar ou a busca do site.
B26: Rentabilidade e risco desde a data escolhida (cotas diárias)
B27: =IF(COUNTA($B$5:$B$24)=0,"Informe ao menos um CNPJ na coluna B.","") -> Informe ao menos um CNPJ na coluna B.
B28: Fundo | C28: Retorno no período | D28: Retorno anualizado | E28: Volatilidade anualizada | F28: Queda máxima | G28: Índice de Sharpe | H28: Melhor mês | I28: Pior mês
B29: {=IFERROR(INDEX(_xlfn.ANCHORARRAY(Dados!$B$5),ROW()-28+1,MATCH("name",INDEX(_xlfn.ANCHORARRAY(Dados!$B$5),1,0),0)),"")} | C29: {=IFERROR(INDEX(_xlfn.ANCHORARRAY(Dados!$B$5),ROW()-28+1,MATCH("metrics.total_return",INDEX(_xlfn.ANCHORARRAY(Dados!$B$5),1,0),0)),"")} | D29: {=IFERROR(INDEX(_xlfn.ANCHORARRAY(Dados!$B$5),ROW()-28+1,MATCH("metrics.annualized_return",INDEX(_xlfn.ANCHORARRAY(Dados!$B$5),1,0),0)),"")} | E29: {=IFERROR(INDEX(_xlfn.ANCHORARRAY(Dados!$B$5),ROW()-28+1,MATCH("metrics.volatility",INDEX(_xlfn.ANCHORARRAY(Dados!$B$5),1,0),0)),"")} | F29: {=IFERROR(INDEX(_xlfn.ANCHORARRAY(Dados!$B$5),ROW()-28+1,MATCH("metrics.max_drawdown.depth",INDEX(_xlfn.ANCHORARRAY(Dados!$B$5),1,0),0)),"")} | G29: {=IFERROR(INDEX(_xlfn.ANCHORARRAY(Dados!$B$5),ROW()-28+1,MATCH("metrics.sharpe",INDEX(_xlfn.ANCHORARRAY(Dados!$B$5),1,0),0)),"")} | H29: {=IFERROR(INDEX(_xlfn.ANCHORARRAY(Dados!$B$5),ROW()-28+1,MATCH("metrics.best_month",INDEX(_xlfn.ANCHORARRAY(Dados!$B$5),1,0),0)),"")} | I29: {=IFERROR(INDEX(_xlfn.ANCHORARRAY(Dados!$B$5),ROW()-28+1,MATCH("metrics.worst_month",INDEX(_xlfn.ANCHORARRAY(Dados!$B$5),1,0),0)),"")}
B30: {=IFERROR(INDEX(_xlfn.ANCHORARRAY(Dados!$B$5),ROW()-28+1,MATCH("name",INDEX(_xlfn.ANCHORARRAY(Dados!$B$5),1,0),0)),"")} | C30: {=IFERROR(INDEX(_xlfn.ANCHORARRAY(Dados!$B$5),ROW()-28+1,MATCH("metrics.total_return",INDEX(_xlfn.ANCHORARRAY(Dados!$B$5),1,0),0)),"")} | D30: {=IFERROR(INDEX(_xlfn.ANCHORARRAY(Dados!$B$5),ROW()-28+1,MATCH("metrics.annualized_return",INDEX(_xlfn.ANCHORARRAY(Dados!$B$5),1,0),0)),"")} | E30: {=IFERROR(INDEX(_xlfn.ANCHORARRAY(Dados!$B$5),ROW()-28+1,MATCH("metrics.volatility",INDEX(_xlfn.ANCHORARRAY(Dados!$B$5),1,0),0)),"")} | F30: {=IFERROR(INDEX(_xlfn.ANCHORARRAY(Dados!$B$5),ROW()-28+1,MATCH("metrics.max_drawdown.depth",INDEX(_xlfn.ANCHORARRAY(Dados!$B$5),1,0),0)),"")} | G30: {=IFERROR(INDEX(_xlfn.ANCHORARRAY(Dados!$B$5),ROW()-28+1,MATCH("metrics.sharpe",INDEX(_xlfn.ANCHORARRAY(Dados!$B$5),1,0),0)),"")} | H30: {=IFERROR(INDEX(_xlfn.ANCHORARRAY(Dados!$B$5),ROW()-28+1,MATCH("metrics.best_month",INDEX(_xlfn.ANCHORARRAY(Dados!$B$5),1,0),0)),"")} | I30: {=IFERROR(INDEX(_xlfn.ANCHORARRAY(Dados!$B$5),ROW()-28+1,MATCH("metrics.worst_month",INDEX(_xlfn.ANCHORARRAY(Dados!$B$5),1,0),0)),"")}
B31: {=IFERROR(INDEX(_xlfn.ANCHORARRAY(Dados!$B$5),ROW()-28+1,MATCH("name",INDEX(_xlfn.ANCHORARRAY(Dados!$B$5),1,0),0)),"")} | C31: {=IFERROR(INDEX(_xlfn.ANCHORARRAY(Dados!$B$5),ROW()-28+1,MATCH("metrics.total_return",INDEX(_xlfn.ANCHORARRAY(Dados!$B$5),1,0),0)),"")} | D31: {=IFERROR(INDEX(_xlfn.ANCHORARRAY(Dados!$B$5),ROW()-28+1,MATCH("metrics.annualized_return",INDEX(_xlfn.ANCHORARRAY(Dados!$B$5),1,0),0)),"")} | E31: {=IFERROR(INDEX(_xlfn.ANCHORARRAY(Dados!$B$5),ROW()-28+1,MATCH("metrics.volatility",INDEX(_xlfn.ANCHORARRAY(Dados!$B$5),1,0),0)),"")} | F31: {=IFERROR(INDEX(_xlfn.ANCHORARRAY(Dados!$B$5),ROW()-28+1,MATCH("metrics.max_drawdown.depth",INDEX(_xlfn.ANCHORARRAY(Dados!$B$5),1,0),0)),"")} | G31: {=IFERROR(INDEX(_xlfn.ANCHORARRAY(Dados!$B$5),ROW()-28+1,MATCH("metrics.sharpe",INDEX(_xlfn.ANCHORARRAY(Dados!$B$5),1,0),0)),"")} | H31: {=IFERROR(INDEX(_xlfn.ANCHORARRAY(Dados!$B$5),ROW()-28+1,MATCH("metrics.best_month",INDEX(_xlfn.ANCHORARRAY(Dados!$B$5),1,0),0)),"")} | I31: {=IFERROR(INDEX(_xlfn.ANCHORARRAY(Dados!$B$5),ROW()-28+1,MATCH("metrics.worst_month",INDEX(_xlfn.ANCHORARRAY(Dados!$B$5),1,0),0)),"")}
B32: {=IFERROR(INDEX(_xlfn.ANCHORARRAY(Dados!$B$5),ROW()-28+1,MATCH("name",INDEX(_xlfn.ANCHORARRAY(Dados!$B$5),1,0),0)),"")} | C32: {=IFERROR(INDEX(_xlfn.ANCHORARRAY(Dados!$B$5),ROW()-28+1,MATCH("metrics.total_return",INDEX(_xlfn.ANCHORARRAY(Dados!$B$5),1,0),0)),"")} | D32: {=IFERROR(INDEX(_xlfn.ANCHORARRAY(Dados!$B$5),ROW()-28+1,MATCH("metrics.annualized_return",INDEX(_xlfn.ANCHORARRAY(Dados!$B$5),1,0),0)),"")} | E32: {=IFERROR(INDEX(_xlfn.ANCHORARRAY(Dados!$B$5),ROW()-28+1,MATCH("metrics.volatility",INDEX(_xlfn.ANCHORARRAY(Dados!$B$5),1,0),0)),"")} | F32: {=IFERROR(INDEX(_xlfn.ANCHORARRAY(Dados!$B$5),ROW()-28+1,MATCH("metrics.max_drawdown.depth",INDEX(_xlfn.ANCHORARRAY(Dados!$B$5),1,0),0)),"")} | G32: {=IFERROR(INDEX(_xlfn.ANCHORARRAY(Dados!$B$5),ROW()-28+1,MATCH("metrics.sharpe",INDEX(_xlfn.ANCHORARRAY(Dados!$B$5),1,0),0)),"")} | H32: {=IFERROR(INDEX(_xlfn.ANCHORARRAY(Dados!$B$5),ROW()-28+1,MATCH("metrics.best_month",INDEX(_xlfn.ANCHORARRAY(Dados!$B$5),1,0),0)),"")} | I32: {=IFERROR(INDEX(_xlfn.ANCHORARRAY(Dados!$B$5),ROW()-28+1,MATCH("metrics.worst_month",INDEX(_xlfn.ANCHORARRAY(Dados!$B$5),1,0),0)),"")}
B33: {=IFERROR(INDEX(_xlfn.ANCHORARRAY(Dados!$B$5),ROW()-28+1,MATCH("name",INDEX(_xlfn.ANCHORARRAY(Dados!$B$5),1,0),0)),"")} | C33: {=IFERROR(INDEX(_xlfn.ANCHORARRAY(Dados!$B$5),ROW()-28+1,MATCH("metrics.total_return",INDEX(_xlfn.ANCHORARRAY(Dados!$B$5),1,0),0)),"")} | D33: {=IFERROR(INDEX(_xlfn.ANCHORARRAY(Dados!$B$5),ROW()-28+1,MATCH("metrics.annualized_return",INDEX(_xlfn.ANCHORARRAY(Dados!$B$5),1,0),0)),"")} | E33: {=IFERROR(INDEX(_xlfn.ANCHORARRAY(Dados!$B$5),ROW()-28+1,MATCH("metrics.volatility",INDEX(_xlfn.ANCHORARRAY(Dados!$B$5),1,0),0)),"")} | F33: {=IFERROR(INDEX(_xlfn.ANCHORARRAY(Dados!$B$5),ROW()-28+1,MATCH("metrics.max_drawdown.depth",INDEX(_xlfn.ANCHORARRAY(Dados!$B$5),1,0),0)),"")} | G33: {=IFERROR(INDEX(_xlfn.ANCHORARRAY(Dados!$B$5),ROW()-28+1,MATCH("metrics.sharpe",INDEX(_xlfn.ANCHORARRAY(Dados!$B$5),1,0),0)),"")} | H33: {=IFERROR(INDEX(_xlfn.ANCHORARRAY(Dados!$B$5),ROW()-28+1,MATCH("metrics.best_month",INDEX(_xlfn.ANCHORARRAY(Dados!$B$5),1,0),0)),"")} | I33: {=IFERROR(INDEX(_xlfn.ANCHORARRAY(Dados!$B$5),ROW()-28+1,MATCH("metrics.worst_month",INDEX(_xlfn.ANCHORARRAY(Dados!$B$5),1,0),0)),"")}
B34: {=IFERROR(INDEX(_xlfn.ANCHORARRAY(Dados!$B$5),ROW()-28+1,MATCH("name",INDEX(_xlfn.ANCHORARRAY(Dados!$B$5),1,0),0)),"")} | C34: {=IFERROR(INDEX(_xlfn.ANCHORARRAY(Dados!$B$5),ROW()-28+1,MATCH("metrics.total_return",INDEX(_xlfn.ANCHORARRAY(Dados!$B$5),1,0),0)),"")} | D34: {=IFERROR(INDEX(_xlfn.ANCHORARRAY(Dados!$B$5),ROW()-28+1,MATCH("metrics.annualized_return",INDEX(_xlfn.ANCHORARRAY(Dados!$B$5),1,0),0)),"")} | E34: {=IFERROR(INDEX(_xlfn.ANCHORARRAY(Dados!$B$5),ROW()-28+1,MATCH("metrics.volatility",INDEX(_xlfn.ANCHORARRAY(Dados!$B$5),1,0),0)),"")} | F34: {=IFERROR(INDEX(_xlfn.ANCHORARRAY(Dados!$B$5),ROW()-28+1,MATCH("metrics.max_drawdown.depth",INDEX(_xlfn.ANCHORARRAY(Dados!$B$5),1,0),0)),"")} | G34: {=IFERROR(INDEX(_xlfn.ANCHORARRAY(Dados!$B$5),ROW()-28+1,MATCH("metrics.sharpe",INDEX(_xlfn.ANCHORARRAY(Dados!$B$5),1,0),0)),"")} | H34: {=IFERROR(INDEX(_xlfn.ANCHORARRAY(Dados!$B$5),ROW()-28+1,MATCH("metrics.best_month",INDEX(_xlfn.ANCHORARRAY(Dados!$B$5),1,0),0)),"")} | I34: {=IFERROR(INDEX(_xlfn.ANCHORARRAY(Dados!$B$5),ROW()-28+1,MATCH("metrics.worst_month",INDEX(_xlfn.ANCHORARRAY(Dados!$B$5),1,0),0)),"")}
B35: {=IFERROR(INDEX(_xlfn.ANCHORARRAY(Dados!$B$5),ROW()-28+1,MATCH("name",INDEX(_xlfn.ANCHORARRAY(Dados!$B$5),1,0),0)),"")} | C35: {=IFERROR(INDEX(_xlfn.ANCHORARRAY(Dados!$B$5),ROW()-28+1,MATCH("metrics.total_return",INDEX(_xlfn.ANCHORARRAY(Dados!$B$5),1,0),0)),"")} | D35: {=IFERROR(INDEX(_xlfn.ANCHORARRAY(Dados!$B$5),ROW()-28+1,MATCH("metrics.annualized_return",INDEX(_xlfn.ANCHORARRAY(Dados!$B$5),1,0),0)),"")} | E35: {=IFERROR(INDEX(_xlfn.ANCHORARRAY(Dados!$B$5),ROW()-28+1,MATCH("metrics.volatility",INDEX(_xlfn.ANCHORARRAY(Dados!$B$5),1,0),0)),"")} | F35: {=IFERROR(INDEX(_xlfn.ANCHORARRAY(Dados!$B$5),ROW()-28+1,MATCH("metrics.max_drawdown.depth",INDEX(_xlfn.ANCHORARRAY(Dados!$B$5),1,0),0)),"")} | G35: {=IFERROR(INDEX(_xlfn.ANCHORARRAY(Dados!$B$5),ROW()-28+1,MATCH("metrics.sharpe",INDEX(_xlfn.ANCHORARRAY(Dados!$B$5),1,0),0)),"")} | H35: {=IFERROR(INDEX(_xlfn.ANCHORARRAY(Dados!$B$5),ROW()-28+1,MATCH("metrics.best_month",INDEX(_xlfn.ANCHORARRAY(Dados!$B$5),1,0),0)),"")} | I35: {=IFERROR(INDEX(_xlfn.ANCHORARRAY(Dados!$B$5),ROW()-28+1,MATCH("metrics.worst_month",INDEX(_xlfn.ANCHORARRAY(Dados!$B$5),1,0),0)),"")}
B36: {=IFERROR(INDEX(_xlfn.ANCHORARRAY(Dados!$B$5),ROW()-28+1,MATCH("name",INDEX(_xlfn.ANCHORARRAY(Dados!$B$5),1,0),0)),"")} | C36: {=IFERROR(INDEX(_xlfn.ANCHORARRAY(Dados!$B$5),ROW()-28+1,MATCH("metrics.total_return",INDEX(_xlfn.ANCHORARRAY(Dados!$B$5),1,0),0)),"")} | D36: {=IFERROR(INDEX(_xlfn.ANCHORARRAY(Dados!$B$5),ROW()-28+1,MATCH("metrics.annualized_return",INDEX(_xlfn.ANCHORARRAY(Dados!$B$5),1,0),0)),"")} | E36: {=IFERROR(INDEX(_xlfn.ANCHORARRAY(Dados!$B$5),ROW()-28+1,MATCH("metrics.volatility",INDEX(_xlfn.ANCHORARRAY(Dados!$B$5),1,0),0)),"")} | F36: {=IFERROR(INDEX(_xlfn.ANCHORARRAY(Dados!$B$5),ROW()-28+1,MATCH("metrics.max_drawdown.depth",INDEX(_xlfn.ANCHORARRAY(Dados!$B$5),1,0),0)),"")} | G36: {=IFERROR(INDEX(_xlfn.ANCHORARRAY(Dados!$B$5),ROW()-28+1,MATCH("metrics.sharpe",INDEX(_xlfn.ANCHORARRAY(Dados!$B$5),1,0),0)),"")} | H36: {=IFERROR(INDEX(_xlfn.ANCHORARRAY(Dados!$B$5),ROW()-28+1,MATCH("metrics.best_month",INDEX(_xlfn.ANCHORARRAY(Dados!$B$5),1,0),0)),"")} | I36: {=IFERROR(INDEX(_xlfn.ANCHORARRAY(Dados!$B$5),ROW()-28+1,MATCH("metrics.worst_month",INDEX(_xlfn.ANCHORARRAY(Dados!$B$5),1,0),0)),"")}
B37: {=IFERROR(INDEX(_xlfn.ANCHORARRAY(Dados!$B$5),ROW()-28+1,MATCH("name",INDEX(_xlfn.ANCHORARRAY(Dados!$B$5),1,0),0)),"")} | C37: {=IFERROR(INDEX(_xlfn.ANCHORARRAY(Dados!$B$5),ROW()-28+1,MATCH("metrics.total_return",INDEX(_xlfn.ANCHORARRAY(Dados!$B$5),1,0),0)),"")} | D37: {=IFERROR(INDEX(_xlfn.ANCHORARRAY(Dados!$B$5),ROW()-28+1,MATCH("metrics.annualized_return",INDEX(_xlfn.ANCHORARRAY(Dados!$B$5),1,0),0)),"")} | E37: {=IFERROR(INDEX(_xlfn.ANCHORARRAY(Dados!$B$5),ROW()-28+1,MATCH("metrics.volatility",INDEX(_xlfn.ANCHORARRAY(Dados!$B$5),1,0),0)),"")} | F37: {=IFERROR(INDEX(_xlfn.ANCHORARRAY(Dados!$B$5),ROW()-28+1,MATCH("metrics.max_drawdown.depth",INDEX(_xlfn.ANCHORARRAY(Dados!$B$5),1,0),0)),"")} | G37: {=IFERROR(INDEX(_xlfn.ANCHORARRAY(Dados!$B$5),ROW()-28+1,MATCH("metrics.sharpe",INDEX(_xlfn.ANCHORARRAY(Dados!$B$5),1,0),0)),"")} | H37: {=IFERROR(INDEX(_xlfn.ANCHORARRAY(Dados!$B$5),ROW()-28+1,MATCH("metrics.best_month",INDEX(_xlfn.ANCHORARRAY(Dados!$B$5),1,0),0)),"")} | I37: {=IFERROR(INDEX(_xlfn.ANCHORARRAY(Dados!$B$5),ROW()-28+1,MATCH("metrics.worst_month",INDEX(_xlfn.ANCHORARRAY(Dados!$B$5),1,0),0)),"")}
B38: {=IFERROR(INDEX(_xlfn.ANCHORARRAY(Dados!$B$5),ROW()-28+1,MATCH("name",INDEX(_xlfn.ANCHORARRAY(Dados!$B$5),1,0),0)),"")} | C38: {=IFERROR(INDEX(_xlfn.ANCHORARRAY(Dados!$B$5),ROW()-28+1,MATCH("metrics.total_return",INDEX(_xlfn.ANCHORARRAY(Dados!$B$5),1,0),0)),"")} | D38: {=IFERROR(INDEX(_xlfn.ANCHORARRAY(Dados!$B$5),ROW()-28+1,MATCH("metrics.annualized_return",INDEX(_xlfn.ANCHORARRAY(Dados!$B$5),1,0),0)),"")} | E38: {=IFERROR(INDEX(_xlfn.ANCHORARRAY(Dados!$B$5),ROW()-28+1,MATCH("metrics.volatility",INDEX(_xlfn.ANCHORARRAY(Dados!$B$5),1,0),0)),"")} | F38: {=IFERROR(INDEX(_xlfn.ANCHORARRAY(Dados!$B$5),ROW()-28+1,MATCH("metrics.max_drawdown.depth",INDEX(_xlfn.ANCHORARRAY(Dados!$B$5),1,0),0)),"")} | G38: {=IFERROR(INDEX(_xlfn.ANCHORARRAY(Dados!$B$5),ROW()-28+1,MATCH("metrics.sharpe",INDEX(_xlfn.ANCHORARRAY(Dados!$B$5),1,0),0)),"")} | H38: {=IFERROR(INDEX(_xlfn.ANCHORARRAY(Dados!$B$5),ROW()-28+1,MATCH("metrics.best_month",INDEX(_xlfn.ANCHORARRAY(Dados!$B$5),1,0),0)),"")} | I38: {=IFERROR(INDEX(_xlfn.ANCHORARRAY(Dados!$B$5),ROW()-28+1,MATCH("metrics.worst_month",INDEX(_xlfn.ANCHORARRAY(Dados!$B$5),1,0),0)),"")}
B39: {=IFERROR(INDEX(_xlfn.ANCHORARRAY(Dados!$B$5),ROW()-28+1,MATCH("name",INDEX(_xlfn.ANCHORARRAY(Dados!$B$5),1,0),0)),"")} | C39: {=IFERROR(INDEX(_xlfn.ANCHORARRAY(Dados!$B$5),ROW()-28+1,MATCH("metrics.total_return",INDEX(_xlfn.ANCHORARRAY(Dados!$B$5),1,0),0)),"")} | D39: {=IFERROR(INDEX(_xlfn.ANCHORARRAY(Dados!$B$5),ROW()-28+1,MATCH("metrics.annualized_return",INDEX(_xlfn.ANCHORARRAY(Dados!$B$5),1,0),0)),"")} | E39: {=IFERROR(INDEX(_xlfn.ANCHORARRAY(Dados!$B$5),ROW()-28+1,MATCH("metrics.volatility",INDEX(_xlfn.ANCHORARRAY(Dados!$B$5),1,0),0)),"")} | F39: {=IFERROR(INDEX(_xlfn.ANCHORARRAY(Dados!$B$5),ROW()-28+1,MATCH("metrics.max_drawdown.depth",INDEX(_xlfn.ANCHORARRAY(Dados!$B$5),1,0),0)),"")} | G39: {=IFERROR(INDEX(_xlfn.ANCHORARRAY(Dados!$B$5),ROW()-28+1,MATCH("metrics.sharpe",INDEX(_xlfn.ANCHORARRAY(Dados!$B$5),1,0),0)),"")} | H39: {=IFERROR(INDEX(_xlfn.ANCHORARRAY(Dados!$B$5),ROW()-28+1,MATCH("metrics.best_month",INDEX(_xlfn.ANCHORARRAY(Dados!$B$5),1,0),0)),"")} | I39: {=IFERROR(INDEX(_xlfn.ANCHORARRAY(Dados!$B$5),ROW()-28+1,MATCH("metrics.worst_month",INDEX(_xlfn.ANCHORARRAY(Dados!$B$5),1,0),0)),"")}
B40: {=IFERROR(INDEX(_xlfn.ANCHORARRAY(Dados!$B$5),ROW()-28+1,MATCH("name",INDEX(_xlfn.ANCHORARRAY(Dados!$B$5),1,0),0)),"")} | C40: {=IFERROR(INDEX(_xlfn.ANCHORARRAY(Dados!$B$5),ROW()-28+1,MATCH("metrics.total_return",INDEX(_xlfn.ANCHORARRAY(Dados!$B$5),1,0),0)),"")} | D40: {=IFERROR(INDEX(_xlfn.ANCHORARRAY(Dados!$B$5),ROW()-28+1,MATCH("metrics.annualized_return",INDEX(_xlfn.ANCHORARRAY(Dados!$B$5),1,0),0)),"")} | E40: {=IFERROR(INDEX(_xlfn.ANCHORARRAY(Dados!$B$5),ROW()-28+1,MATCH("metrics.volatility",INDEX(_xlfn.ANCHORARRAY(Dados!$B$5),1,0),0)),"")} | F40: {=IFERROR(INDEX(_xlfn.ANCHORARRAY(Dados!$B$5),ROW()-28+1,MATCH("metrics.max_drawdown.depth",INDEX(_xlfn.ANCHORARRAY(Dados!$B$5),1,0),0)),"")} | G40: {=IFERROR(INDEX(_xlfn.ANCHORARRAY(Dados!$B$5),ROW()-28+1,MATCH("metrics.sharpe",INDEX(_xlfn.ANCHORARRAY(Dados!$B$5),1,0),0)),"")} | H40: {=IFERROR(INDEX(_xlfn.ANCHORARRAY(Dados!$B$5),ROW()-28+1,MATCH("metrics.best_month",INDEX(_xlfn.ANCHORARRAY(Dados!$B$5),1,0),0)),"")} | I40: {=IFERROR(INDEX(_xlfn.ANCHORARRAY(Dados!$B$5),ROW()-28+1,MATCH("metrics.worst_month",INDEX(_xlfn.ANCHORARRAY(Dados!$B$5),1,0),0)),"")}
... B48: {=IFERROR(INDEX(_xlfn.ANCHORARRAY(Dados!$B$5),ROW()-28+1,MATCH("name",INDEX(_xlfn.ANCHORARRAY(Dados!$B$5),1,0),0)),"")} | C48: {=IFERROR(INDEX(_xlfn.ANCHORARRAY(Dados!$B$5),ROW()-28+1,MATCH("metrics.total_return",INDEX(_xlfn.ANCHORARRAY(Dados!$B$5),1,0),0)),"")} | D48: {=IFERROR(INDEX(_xlfn.ANCHORARRAY(Dados!$B$5),ROW()-28+1,MATCH("metrics.annualized_return",INDEX(_xlfn.ANCHORARRAY(Dados!$B$5),1,0),0)),"")} | E48: {=IFERROR(INDEX(_xlfn.ANCHORARRAY(Dados!$B$5),ROW()-28+1,MATCH("metrics.volatility",INDEX(_xlfn.ANCHORARRAY(Dados!$B$5),1,0),0)),"")} | F48: {=IFERROR(INDEX(_xlfn.ANCHORARRAY(Dados!$B$5),ROW()-28+1,MATCH("metrics.max_drawdown.depth",INDEX(_xlfn.ANCHORARRAY(Dados!$B$5),1,0),0)),"")} | G48: {=IFERROR(INDEX(_xlfn.ANCHORARRAY(Dados!$B$5),ROW()-28+1,MATCH("metrics.sharpe",INDEX(_xlfn.ANCHORARRAY(Dados!$B$5),1,0),0)),"")} | H48: {=IFERROR(INDEX(_xlfn.ANCHORARRAY(Dados!$B$5),ROW()-28+1,MATCH("metrics.best_month",INDEX(_xlfn.ANCHORARRAY(Dados!$B$5),1,0),0)),"")} | I48: {=IFERROR(INDEX(_xlfn.ANCHORARRAY(Dados!$B$5),ROW()-28+1,MATCH("metrics.worst_month",INDEX(_xlfn.ANCHORARRAY(Dados!$B$5),1,0),0)),"")}
B51: Legenda
B52: Dados conectados | C52: Vêm da Fintay e mudam quando você clica em Fintay > Atualizar dados.
B53: Suas entradas | C53: Ticker, datas e premissas. Atualizar os dados nunca sobrescreve estas células.
B54: Resultados | C54: Calculados a partir dos dados e das suas entradas.

Sheet Dados
B1: fintay | C1: Dados conectados
C2: A tabela da aba Comparacao lê daqui.
B4: Rentabilidade e risco
B5: {=IF(COUNTA(Comparacao!$B$5:$B$24)=0,"",Fintay_Ativos_Metricas(_xlfn._xlws.FILTER(Comparacao!$B$5:$B$24,Comparacao!$B$5:$B$24<>""),Comparacao!$E$4,"","diaria",Comparacao!$E$5))}
