Workbook

Sheet Comparacao
B1: fintay | C1: Comparação de empresas
C2: Múltiplos, rentabilidade e risco lado a lado.
B4: Empresas (até 10) | D4: Desde | E4: =EDATE(TODAY(),-36) -> 45214 | F4: Três anos atrás; troque por uma data fixa se preferir.
B5: WEGE3 | D5: Referência | E5: IBOV
B6: EMBJ3
B7: RAIL3 | D7: Escreva os tickers na coluna B e clique em Fintay > Atualizar dados.
B8: TUPY3
B9: POMO4
B16: Múltiplos
B17: Ticker | C17: Empresa | D17: Preço (R$) | E17: Valor de mercado (R$) | F17: P/L | G17: P/VP | H17: Dividend yield | I17: ROE
B18: {=IFERROR(INDEX(_xlfn.ANCHORARRAY(Dados!$B$5),ROW()-17+1,MATCH("code",INDEX(_xlfn.ANCHORARRAY(Dados!$B$5),1,0),0)),"")} | C18: {=IFERROR(INDEX(_xlfn.ANCHORARRAY(Dados!$B$5),ROW()-17+1,MATCH("name",INDEX(_xlfn.ANCHORARRAY(Dados!$B$5),1,0),0)),"")} | D18: {=IFERROR(INDEX(_xlfn.ANCHORARRAY(Dados!$B$5),ROW()-17+1,MATCH("price",INDEX(_xlfn.ANCHORARRAY(Dados!$B$5),1,0),0)),"")} | E18: {=IFERROR(INDEX(_xlfn.ANCHORARRAY(Dados!$B$5),ROW()-17+1,MATCH("market_cap",INDEX(_xlfn.ANCHORARRAY(Dados!$B$5),1,0),0)),"")} | F18: {=IFERROR(INDEX(_xlfn.ANCHORARRAY(Dados!$B$5),ROW()-17+1,MATCH("price_to_earnings",INDEX(_xlfn.ANCHORARRAY(Dados!$B$5),1,0),0)),"")} | G18: {=IFERROR(INDEX(_xlfn.ANCHORARRAY(Dados!$B$5),ROW()-17+1,MATCH("price_to_book",INDEX(_xlfn.ANCHORARRAY(Dados!$B$5),1,0),0)),"")} | H18: {=IFERROR(INDEX(_xlfn.ANCHORARRAY(Dados!$B$5),ROW()-17+1,MATCH("dividend_yield",INDEX(_xlfn.ANCHORARRAY(Dados!$B$5),1,0),0)),"")} | I18: {=IFERROR(INDEX(_xlfn.ANCHORARRAY(Dados!$B$5),ROW()-17+1,MATCH("return_on_equity",INDEX(_xlfn.ANCHORARRAY(Dados!$B$5),1,0),0)),"")}
B19: {=IFERROR(INDEX(_xlfn.ANCHORARRAY(Dados!$B$5),ROW()-17+1,MATCH("code",INDEX(_xlfn.ANCHORARRAY(Dados!$B$5),1,0),0)),"")} | C19: {=IFERROR(INDEX(_xlfn.ANCHORARRAY(Dados!$B$5),ROW()-17+1,MATCH("name",INDEX(_xlfn.ANCHORARRAY(Dados!$B$5),1,0),0)),"")} | D19: {=IFERROR(INDEX(_xlfn.ANCHORARRAY(Dados!$B$5),ROW()-17+1,MATCH("price",INDEX(_xlfn.ANCHORARRAY(Dados!$B$5),1,0),0)),"")} | E19: {=IFERROR(INDEX(_xlfn.ANCHORARRAY(Dados!$B$5),ROW()-17+1,MATCH("market_cap",INDEX(_xlfn.ANCHORARRAY(Dados!$B$5),1,0),0)),"")} | F19: {=IFERROR(INDEX(_xlfn.ANCHORARRAY(Dados!$B$5),ROW()-17+1,MATCH("price_to_earnings",INDEX(_xlfn.ANCHORARRAY(Dados!$B$5),1,0),0)),"")} | G19: {=IFERROR(INDEX(_xlfn.ANCHORARRAY(Dados!$B$5),ROW()-17+1,MATCH("price_to_book",INDEX(_xlfn.ANCHORARRAY(Dados!$B$5),1,0),0)),"")} | H19: {=IFERROR(INDEX(_xlfn.ANCHORARRAY(Dados!$B$5),ROW()-17+1,MATCH("dividend_yield",INDEX(_xlfn.ANCHORARRAY(Dados!$B$5),1,0),0)),"")} | I19: {=IFERROR(INDEX(_xlfn.ANCHORARRAY(Dados!$B$5),ROW()-17+1,MATCH("return_on_equity",INDEX(_xlfn.ANCHORARRAY(Dados!$B$5),1,0),0)),"")}
B20: {=IFERROR(INDEX(_xlfn.ANCHORARRAY(Dados!$B$5),ROW()-17+1,MATCH("code",INDEX(_xlfn.ANCHORARRAY(Dados!$B$5),1,0),0)),"")} | C20: {=IFERROR(INDEX(_xlfn.ANCHORARRAY(Dados!$B$5),ROW()-17+1,MATCH("name",INDEX(_xlfn.ANCHORARRAY(Dados!$B$5),1,0),0)),"")} | D20: {=IFERROR(INDEX(_xlfn.ANCHORARRAY(Dados!$B$5),ROW()-17+1,MATCH("price",INDEX(_xlfn.ANCHORARRAY(Dados!$B$5),1,0),0)),"")} | E20: {=IFERROR(INDEX(_xlfn.ANCHORARRAY(Dados!$B$5),ROW()-17+1,MATCH("market_cap",INDEX(_xlfn.ANCHORARRAY(Dados!$B$5),1,0),0)),"")} | F20: {=IFERROR(INDEX(_xlfn.ANCHORARRAY(Dados!$B$5),ROW()-17+1,MATCH("price_to_earnings",INDEX(_xlfn.ANCHORARRAY(Dados!$B$5),1,0),0)),"")} | G20: {=IFERROR(INDEX(_xlfn.ANCHORARRAY(Dados!$B$5),ROW()-17+1,MATCH("price_to_book",INDEX(_xlfn.ANCHORARRAY(Dados!$B$5),1,0),0)),"")} | H20: {=IFERROR(INDEX(_xlfn.ANCHORARRAY(Dados!$B$5),ROW()-17+1,MATCH("dividend_yield",INDEX(_xlfn.ANCHORARRAY(Dados!$B$5),1,0),0)),"")} | I20: {=IFERROR(INDEX(_xlfn.ANCHORARRAY(Dados!$B$5),ROW()-17+1,MATCH("return_on_equity",INDEX(_xlfn.ANCHORARRAY(Dados!$B$5),1,0),0)),"")}
B21: {=IFERROR(INDEX(_xlfn.ANCHORARRAY(Dados!$B$5),ROW()-17+1,MATCH("code",INDEX(_xlfn.ANCHORARRAY(Dados!$B$5),1,0),0)),"")} | C21: {=IFERROR(INDEX(_xlfn.ANCHORARRAY(Dados!$B$5),ROW()-17+1,MATCH("name",INDEX(_xlfn.ANCHORARRAY(Dados!$B$5),1,0),0)),"")} | D21: {=IFERROR(INDEX(_xlfn.ANCHORARRAY(Dados!$B$5),ROW()-17+1,MATCH("price",INDEX(_xlfn.ANCHORARRAY(Dados!$B$5),1,0),0)),"")} | E21: {=IFERROR(INDEX(_xlfn.ANCHORARRAY(Dados!$B$5),ROW()-17+1,MATCH("market_cap",INDEX(_xlfn.ANCHORARRAY(Dados!$B$5),1,0),0)),"")} | F21: {=IFERROR(INDEX(_xlfn.ANCHORARRAY(Dados!$B$5),ROW()-17+1,MATCH("price_to_earnings",INDEX(_xlfn.ANCHORARRAY(Dados!$B$5),1,0),0)),"")} | G21: {=IFERROR(INDEX(_xlfn.ANCHORARRAY(Dados!$B$5),ROW()-17+1,MATCH("price_to_book",INDEX(_xlfn.ANCHORARRAY(Dados!$B$5),1,0),0)),"")} | H21: {=IFERROR(INDEX(_xlfn.ANCHORARRAY(Dados!$B$5),ROW()-17+1,MATCH("dividend_yield",INDEX(_xlfn.ANCHORARRAY(Dados!$B$5),1,0),0)),"")} | I21: {=IFERROR(INDEX(_xlfn.ANCHORARRAY(Dados!$B$5),ROW()-17+1,MATCH("return_on_equity",INDEX(_xlfn.ANCHORARRAY(Dados!$B$5),1,0),0)),"")}
B22: {=IFERROR(INDEX(_xlfn.ANCHORARRAY(Dados!$B$5),ROW()-17+1,MATCH("code",INDEX(_xlfn.ANCHORARRAY(Dados!$B$5),1,0),0)),"")} | C22: {=IFERROR(INDEX(_xlfn.ANCHORARRAY(Dados!$B$5),ROW()-17+1,MATCH("name",INDEX(_xlfn.ANCHORARRAY(Dados!$B$5),1,0),0)),"")} | D22: {=IFERROR(INDEX(_xlfn.ANCHORARRAY(Dados!$B$5),ROW()-17+1,MATCH("price",INDEX(_xlfn.ANCHORARRAY(Dados!$B$5),1,0),0)),"")} | E22: {=IFERROR(INDEX(_xlfn.ANCHORARRAY(Dados!$B$5),ROW()-17+1,MATCH("market_cap",INDEX(_xlfn.ANCHORARRAY(Dados!$B$5),1,0),0)),"")} | F22: {=IFERROR(INDEX(_xlfn.ANCHORARRAY(Dados!$B$5),ROW()-17+1,MATCH("price_to_earnings",INDEX(_xlfn.ANCHORARRAY(Dados!$B$5),1,0),0)),"")} | G22: {=IFERROR(INDEX(_xlfn.ANCHORARRAY(Dados!$B$5),ROW()-17+1,MATCH("price_to_book",INDEX(_xlfn.ANCHORARRAY(Dados!$B$5),1,0),0)),"")} | H22: {=IFERROR(INDEX(_xlfn.ANCHORARRAY(Dados!$B$5),ROW()-17+1,MATCH("dividend_yield",INDEX(_xlfn.ANCHORARRAY(Dados!$B$5),1,0),0)),"")} | I22: {=IFERROR(INDEX(_xlfn.ANCHORARRAY(Dados!$B$5),ROW()-17+1,MATCH("return_on_equity",INDEX(_xlfn.ANCHORARRAY(Dados!$B$5),1,0),0)),"")}
B23: {=IFERROR(INDEX(_xlfn.ANCHORARRAY(Dados!$B$5),ROW()-17+1,MATCH("code",INDEX(_xlfn.ANCHORARRAY(Dados!$B$5),1,0),0)),"")} | C23: {=IFERROR(INDEX(_xlfn.ANCHORARRAY(Dados!$B$5),ROW()-17+1,MATCH("name",INDEX(_xlfn.ANCHORARRAY(Dados!$B$5),1,0),0)),"")} | D23: {=IFERROR(INDEX(_xlfn.ANCHORARRAY(Dados!$B$5),ROW()-17+1,MATCH("price",INDEX(_xlfn.ANCHORARRAY(Dados!$B$5),1,0),0)),"")} | E23: {=IFERROR(INDEX(_xlfn.ANCHORARRAY(Dados!$B$5),ROW()-17+1,MATCH("market_cap",INDEX(_xlfn.ANCHORARRAY(Dados!$B$5),1,0),0)),"")} | F23: {=IFERROR(INDEX(_xlfn.ANCHORARRAY(Dados!$B$5),ROW()-17+1,MATCH("price_to_earnings",INDEX(_xlfn.ANCHORARRAY(Dados!$B$5),1,0),0)),"")} | G23: {=IFERROR(INDEX(_xlfn.ANCHORARRAY(Dados!$B$5),ROW()-17+1,MATCH("price_to_book",INDEX(_xlfn.ANCHORARRAY(Dados!$B$5),1,0),0)),"")} | H23: {=IFERROR(INDEX(_xlfn.ANCHORARRAY(Dados!$B$5),ROW()-17+1,MATCH("dividend_yield",INDEX(_xlfn.ANCHORARRAY(Dados!$B$5),1,0),0)),"")} | I23: {=IFERROR(INDEX(_xlfn.ANCHORARRAY(Dados!$B$5),ROW()-17+1,MATCH("return_on_equity",INDEX(_xlfn.ANCHORARRAY(Dados!$B$5),1,0),0)),"")}
B24: {=IFERROR(INDEX(_xlfn.ANCHORARRAY(Dados!$B$5),ROW()-17+1,MATCH("code",INDEX(_xlfn.ANCHORARRAY(Dados!$B$5),1,0),0)),"")} | C24: {=IFERROR(INDEX(_xlfn.ANCHORARRAY(Dados!$B$5),ROW()-17+1,MATCH("name",INDEX(_xlfn.ANCHORARRAY(Dados!$B$5),1,0),0)),"")} | D24: {=IFERROR(INDEX(_xlfn.ANCHORARRAY(Dados!$B$5),ROW()-17+1,MATCH("price",INDEX(_xlfn.ANCHORARRAY(Dados!$B$5),1,0),0)),"")} | E24: {=IFERROR(INDEX(_xlfn.ANCHORARRAY(Dados!$B$5),ROW()-17+1,MATCH("market_cap",INDEX(_xlfn.ANCHORARRAY(Dados!$B$5),1,0),0)),"")} | F24: {=IFERROR(INDEX(_xlfn.ANCHORARRAY(Dados!$B$5),ROW()-17+1,MATCH("price_to_earnings",INDEX(_xlfn.ANCHORARRAY(Dados!$B$5),1,0),0)),"")} | G24: {=IFERROR(INDEX(_xlfn.ANCHORARRAY(Dados!$B$5),ROW()-17+1,MATCH("price_to_book",INDEX(_xlfn.ANCHORARRAY(Dados!$B$5),1,0),0)),"")} | H24: {=IFERROR(INDEX(_xlfn.ANCHORARRAY(Dados!$B$5),ROW()-17+1,MATCH("dividend_yield",INDEX(_xlfn.ANCHORARRAY(Dados!$B$5),1,0),0)),"")} | I24: {=IFERROR(INDEX(_xlfn.ANCHORARRAY(Dados!$B$5),ROW()-17+1,MATCH("return_on_equity",INDEX(_xlfn.ANCHORARRAY(Dados!$B$5),1,0),0)),"")}
B25: {=IFERROR(INDEX(_xlfn.ANCHORARRAY(Dados!$B$5),ROW()-17+1,MATCH("code",INDEX(_xlfn.ANCHORARRAY(Dados!$B$5),1,0),0)),"")} | C25: {=IFERROR(INDEX(_xlfn.ANCHORARRAY(Dados!$B$5),ROW()-17+1,MATCH("name",INDEX(_xlfn.ANCHORARRAY(Dados!$B$5),1,0),0)),"")} | D25: {=IFERROR(INDEX(_xlfn.ANCHORARRAY(Dados!$B$5),ROW()-17+1,MATCH("price",INDEX(_xlfn.ANCHORARRAY(Dados!$B$5),1,0),0)),"")} | E25: {=IFERROR(INDEX(_xlfn.ANCHORARRAY(Dados!$B$5),ROW()-17+1,MATCH("market_cap",INDEX(_xlfn.ANCHORARRAY(Dados!$B$5),1,0),0)),"")} | F25: {=IFERROR(INDEX(_xlfn.ANCHORARRAY(Dados!$B$5),ROW()-17+1,MATCH("price_to_earnings",INDEX(_xlfn.ANCHORARRAY(Dados!$B$5),1,0),0)),"")} | G25: {=IFERROR(INDEX(_xlfn.ANCHORARRAY(Dados!$B$5),ROW()-17+1,MATCH("price_to_book",INDEX(_xlfn.ANCHORARRAY(Dados!$B$5),1,0),0)),"")} | H25: {=IFERROR(INDEX(_xlfn.ANCHORARRAY(Dados!$B$5),ROW()-17+1,MATCH("dividend_yield",INDEX(_xlfn.ANCHORARRAY(Dados!$B$5),1,0),0)),"")} | I25: {=IFERROR(INDEX(_xlfn.ANCHORARRAY(Dados!$B$5),ROW()-17+1,MATCH("return_on_equity",INDEX(_xlfn.ANCHORARRAY(Dados!$B$5),1,0),0)),"")}
B26: {=IFERROR(INDEX(_xlfn.ANCHORARRAY(Dados!$B$5),ROW()-17+1,MATCH("code",INDEX(_xlfn.ANCHORARRAY(Dados!$B$5),1,0),0)),"")} | C26: {=IFERROR(INDEX(_xlfn.ANCHORARRAY(Dados!$B$5),ROW()-17+1,MATCH("name",INDEX(_xlfn.ANCHORARRAY(Dados!$B$5),1,0),0)),"")} | D26: {=IFERROR(INDEX(_xlfn.ANCHORARRAY(Dados!$B$5),ROW()-17+1,MATCH("price",INDEX(_xlfn.ANCHORARRAY(Dados!$B$5),1,0),0)),"")} | E26: {=IFERROR(INDEX(_xlfn.ANCHORARRAY(Dados!$B$5),ROW()-17+1,MATCH("market_cap",INDEX(_xlfn.ANCHORARRAY(Dados!$B$5),1,0),0)),"")} | F26: {=IFERROR(INDEX(_xlfn.ANCHORARRAY(Dados!$B$5),ROW()-17+1,MATCH("price_to_earnings",INDEX(_xlfn.ANCHORARRAY(Dados!$B$5),1,0),0)),"")} | G26: {=IFERROR(INDEX(_xlfn.ANCHORARRAY(Dados!$B$5),ROW()-17+1,MATCH("price_to_book",INDEX(_xlfn.ANCHORARRAY(Dados!$B$5),1,0),0)),"")} | H26: {=IFERROR(INDEX(_xlfn.ANCHORARRAY(Dados!$B$5),ROW()-17+1,MATCH("dividend_yield",INDEX(_xlfn.ANCHORARRAY(Dados!$B$5),1,0),0)),"")} | I26: {=IFERROR(INDEX(_xlfn.ANCHORARRAY(Dados!$B$5),ROW()-17+1,MATCH("return_on_equity",INDEX(_xlfn.ANCHORARRAY(Dados!$B$5),1,0),0)),"")}
B27: {=IFERROR(INDEX(_xlfn.ANCHORARRAY(Dados!$B$5),ROW()-17+1,MATCH("code",INDEX(_xlfn.ANCHORARRAY(Dados!$B$5),1,0),0)),"")} | C27: {=IFERROR(INDEX(_xlfn.ANCHORARRAY(Dados!$B$5),ROW()-17+1,MATCH("name",INDEX(_xlfn.ANCHORARRAY(Dados!$B$5),1,0),0)),"")} | D27: {=IFERROR(INDEX(_xlfn.ANCHORARRAY(Dados!$B$5),ROW()-17+1,MATCH("price",INDEX(_xlfn.ANCHORARRAY(Dados!$B$5),1,0),0)),"")} | E27: {=IFERROR(INDEX(_xlfn.ANCHORARRAY(Dados!$B$5),ROW()-17+1,MATCH("market_cap",INDEX(_xlfn.ANCHORARRAY(Dados!$B$5),1,0),0)),"")} | F27: {=IFERROR(INDEX(_xlfn.ANCHORARRAY(Dados!$B$5),ROW()-17+1,MATCH("price_to_earnings",INDEX(_xlfn.ANCHORARRAY(Dados!$B$5),1,0),0)),"")} | G27: {=IFERROR(INDEX(_xlfn.ANCHORARRAY(Dados!$B$5),ROW()-17+1,MATCH("price_to_book",INDEX(_xlfn.ANCHORARRAY(Dados!$B$5),1,0),0)),"")} | H27: {=IFERROR(INDEX(_xlfn.ANCHORARRAY(Dados!$B$5),ROW()-17+1,MATCH("dividend_yield",INDEX(_xlfn.ANCHORARRAY(Dados!$B$5),1,0),0)),"")} | I27: {=IFERROR(INDEX(_xlfn.ANCHORARRAY(Dados!$B$5),ROW()-17+1,MATCH("return_on_equity",INDEX(_xlfn.ANCHORARRAY(Dados!$B$5),1,0),0)),"")}
B29: Rentabilidade e risco desde a data escolhida (mensal)
B30: Ticker | C30: Retorno no período | D30: Retorno anualizado | E30: Volatilidade anualizada | F30: Queda máxima | G30: Índice de Sharpe | H30: Melhor mês | I30: Pior mês
B31: {=IFERROR(INDEX(_xlfn.ANCHORARRAY(Dados!$B$20),ROW()-30+1,MATCH("code",INDEX(_xlfn.ANCHORARRAY(Dados!$B$20),1,0),0)),"")} | C31: {=IFERROR(INDEX(_xlfn.ANCHORARRAY(Dados!$B$20),ROW()-30+1,MATCH("metrics.total_return",INDEX(_xlfn.ANCHORARRAY(Dados!$B$20),1,0),0)),"")} | D31: {=IFERROR(INDEX(_xlfn.ANCHORARRAY(Dados!$B$20),ROW()-30+1,MATCH("metrics.annualized_return",INDEX(_xlfn.ANCHORARRAY(Dados!$B$20),1,0),0)),"")} | E31: {=IFERROR(INDEX(_xlfn.ANCHORARRAY(Dados!$B$20),ROW()-30+1,MATCH("metrics.volatility",INDEX(_xlfn.ANCHORARRAY(Dados!$B$20),1,0),0)),"")} | F31: {=IFERROR(INDEX(_xlfn.ANCHORARRAY(Dados!$B$20),ROW()-30+1,MATCH("metrics.max_drawdown.depth",INDEX(_xlfn.ANCHORARRAY(Dados!$B$20),1,0),0)),"")} | G31: {=IFERROR(INDEX(_xlfn.ANCHORARRAY(Dados!$B$20),ROW()-30+1,MATCH("metrics.sharpe",INDEX(_xlfn.ANCHORARRAY(Dados!$B$20),1,0),0)),"")} | H31: {=IFERROR(INDEX(_xlfn.ANCHORARRAY(Dados!$B$20),ROW()-30+1,MATCH("metrics.best_month",INDEX(_xlfn.ANCHORARRAY(Dados!$B$20),1,0),0)),"")} | I31: {=IFERROR(INDEX(_xlfn.ANCHORARRAY(Dados!$B$20),ROW()-30+1,MATCH("metrics.worst_month",INDEX(_xlfn.ANCHORARRAY(Dados!$B$20),1,0),0)),"")}
B32: {=IFERROR(INDEX(_xlfn.ANCHORARRAY(Dados!$B$20),ROW()-30+1,MATCH("code",INDEX(_xlfn.ANCHORARRAY(Dados!$B$20),1,0),0)),"")} | C32: {=IFERROR(INDEX(_xlfn.ANCHORARRAY(Dados!$B$20),ROW()-30+1,MATCH("metrics.total_return",INDEX(_xlfn.ANCHORARRAY(Dados!$B$20),1,0),0)),"")} | D32: {=IFERROR(INDEX(_xlfn.ANCHORARRAY(Dados!$B$20),ROW()-30+1,MATCH("metrics.annualized_return",INDEX(_xlfn.ANCHORARRAY(Dados!$B$20),1,0),0)),"")} | E32: {=IFERROR(INDEX(_xlfn.ANCHORARRAY(Dados!$B$20),ROW()-30+1,MATCH("metrics.volatility",INDEX(_xlfn.ANCHORARRAY(Dados!$B$20),1,0),0)),"")} | F32: {=IFERROR(INDEX(_xlfn.ANCHORARRAY(Dados!$B$20),ROW()-30+1,MATCH("metrics.max_drawdown.depth",INDEX(_xlfn.ANCHORARRAY(Dados!$B$20),1,0),0)),"")} | G32: {=IFERROR(INDEX(_xlfn.ANCHORARRAY(Dados!$B$20),ROW()-30+1,MATCH("metrics.sharpe",INDEX(_xlfn.ANCHORARRAY(Dados!$B$20),1,0),0)),"")} | H32: {=IFERROR(INDEX(_xlfn.ANCHORARRAY(Dados!$B$20),ROW()-30+1,MATCH("metrics.best_month",INDEX(_xlfn.ANCHORARRAY(Dados!$B$20),1,0),0)),"")} | I32: {=IFERROR(INDEX(_xlfn.ANCHORARRAY(Dados!$B$20),ROW()-30+1,MATCH("metrics.worst_month",INDEX(_xlfn.ANCHORARRAY(Dados!$B$20),1,0),0)),"")}
B33: {=IFERROR(INDEX(_xlfn.ANCHORARRAY(Dados!$B$20),ROW()-30+1,MATCH("code",INDEX(_xlfn.ANCHORARRAY(Dados!$B$20),1,0),0)),"")} | C33: {=IFERROR(INDEX(_xlfn.ANCHORARRAY(Dados!$B$20),ROW()-30+1,MATCH("metrics.total_return",INDEX(_xlfn.ANCHORARRAY(Dados!$B$20),1,0),0)),"")} | D33: {=IFERROR(INDEX(_xlfn.ANCHORARRAY(Dados!$B$20),ROW()-30+1,MATCH("metrics.annualized_return",INDEX(_xlfn.ANCHORARRAY(Dados!$B$20),1,0),0)),"")} | E33: {=IFERROR(INDEX(_xlfn.ANCHORARRAY(Dados!$B$20),ROW()-30+1,MATCH("metrics.volatility",INDEX(_xlfn.ANCHORARRAY(Dados!$B$20),1,0),0)),"")} | F33: {=IFERROR(INDEX(_xlfn.ANCHORARRAY(Dados!$B$20),ROW()-30+1,MATCH("metrics.max_drawdown.depth",INDEX(_xlfn.ANCHORARRAY(Dados!$B$20),1,0),0)),"")} | G33: {=IFERROR(INDEX(_xlfn.ANCHORARRAY(Dados!$B$20),ROW()-30+1,MATCH("metrics.sharpe",INDEX(_xlfn.ANCHORARRAY(Dados!$B$20),1,0),0)),"")} | H33: {=IFERROR(INDEX(_xlfn.ANCHORARRAY(Dados!$B$20),ROW()-30+1,MATCH("metrics.best_month",INDEX(_xlfn.ANCHORARRAY(Dados!$B$20),1,0),0)),"")} | I33: {=IFERROR(INDEX(_xlfn.ANCHORARRAY(Dados!$B$20),ROW()-30+1,MATCH("metrics.worst_month",INDEX(_xlfn.ANCHORARRAY(Dados!$B$20),1,0),0)),"")}
B34: {=IFERROR(INDEX(_xlfn.ANCHORARRAY(Dados!$B$20),ROW()-30+1,MATCH("code",INDEX(_xlfn.ANCHORARRAY(Dados!$B$20),1,0),0)),"")} | C34: {=IFERROR(INDEX(_xlfn.ANCHORARRAY(Dados!$B$20),ROW()-30+1,MATCH("metrics.total_return",INDEX(_xlfn.ANCHORARRAY(Dados!$B$20),1,0),0)),"")} | D34: {=IFERROR(INDEX(_xlfn.ANCHORARRAY(Dados!$B$20),ROW()-30+1,MATCH("metrics.annualized_return",INDEX(_xlfn.ANCHORARRAY(Dados!$B$20),1,0),0)),"")} | E34: {=IFERROR(INDEX(_xlfn.ANCHORARRAY(Dados!$B$20),ROW()-30+1,MATCH("metrics.volatility",INDEX(_xlfn.ANCHORARRAY(Dados!$B$20),1,0),0)),"")} | F34: {=IFERROR(INDEX(_xlfn.ANCHORARRAY(Dados!$B$20),ROW()-30+1,MATCH("metrics.max_drawdown.depth",INDEX(_xlfn.ANCHORARRAY(Dados!$B$20),1,0),0)),"")} | G34: {=IFERROR(INDEX(_xlfn.ANCHORARRAY(Dados!$B$20),ROW()-30+1,MATCH("metrics.sharpe",INDEX(_xlfn.ANCHORARRAY(Dados!$B$20),1,0),0)),"")} | H34: {=IFERROR(INDEX(_xlfn.ANCHORARRAY(Dados!$B$20),ROW()-30+1,MATCH("metrics.best_month",INDEX(_xlfn.ANCHORARRAY(Dados!$B$20),1,0),0)),"")} | I34: {=IFERROR(INDEX(_xlfn.ANCHORARRAY(Dados!$B$20),ROW()-30+1,MATCH("metrics.worst_month",INDEX(_xlfn.ANCHORARRAY(Dados!$B$20),1,0),0)),"")}
B35: {=IFERROR(INDEX(_xlfn.ANCHORARRAY(Dados!$B$20),ROW()-30+1,MATCH("code",INDEX(_xlfn.ANCHORARRAY(Dados!$B$20),1,0),0)),"")} | C35: {=IFERROR(INDEX(_xlfn.ANCHORARRAY(Dados!$B$20),ROW()-30+1,MATCH("metrics.total_return",INDEX(_xlfn.ANCHORARRAY(Dados!$B$20),1,0),0)),"")} | D35: {=IFERROR(INDEX(_xlfn.ANCHORARRAY(Dados!$B$20),ROW()-30+1,MATCH("metrics.annualized_return",INDEX(_xlfn.ANCHORARRAY(Dados!$B$20),1,0),0)),"")} | E35: {=IFERROR(INDEX(_xlfn.ANCHORARRAY(Dados!$B$20),ROW()-30+1,MATCH("metrics.volatility",INDEX(_xlfn.ANCHORARRAY(Dados!$B$20),1,0),0)),"")} | F35: {=IFERROR(INDEX(_xlfn.ANCHORARRAY(Dados!$B$20),ROW()-30+1,MATCH("metrics.max_drawdown.depth",INDEX(_xlfn.ANCHORARRAY(Dados!$B$20),1,0),0)),"")} | G35: {=IFERROR(INDEX(_xlfn.ANCHORARRAY(Dados!$B$20),ROW()-30+1,MATCH("metrics.sharpe",INDEX(_xlfn.ANCHORARRAY(Dados!$B$20),1,0),0)),"")} | H35: {=IFERROR(INDEX(_xlfn.ANCHORARRAY(Dados!$B$20),ROW()-30+1,MATCH("metrics.best_month",INDEX(_xlfn.ANCHORARRAY(Dados!$B$20),1,0),0)),"")} | I35: {=IFERROR(INDEX(_xlfn.ANCHORARRAY(Dados!$B$20),ROW()-30+1,MATCH("metrics.worst_month",INDEX(_xlfn.ANCHORARRAY(Dados!$B$20),1,0),0)),"")}
B36: {=IFERROR(INDEX(_xlfn.ANCHORARRAY(Dados!$B$20),ROW()-30+1,MATCH("code",INDEX(_xlfn.ANCHORARRAY(Dados!$B$20),1,0),0)),"")} | C36: {=IFERROR(INDEX(_xlfn.ANCHORARRAY(Dados!$B$20),ROW()-30+1,MATCH("metrics.total_return",INDEX(_xlfn.ANCHORARRAY(Dados!$B$20),1,0),0)),"")} | D36: {=IFERROR(INDEX(_xlfn.ANCHORARRAY(Dados!$B$20),ROW()-30+1,MATCH("metrics.annualized_return",INDEX(_xlfn.ANCHORARRAY(Dados!$B$20),1,0),0)),"")} | E36: {=IFERROR(INDEX(_xlfn.ANCHORARRAY(Dados!$B$20),ROW()-30+1,MATCH("metrics.volatility",INDEX(_xlfn.ANCHORARRAY(Dados!$B$20),1,0),0)),"")} | F36: {=IFERROR(INDEX(_xlfn.ANCHORARRAY(Dados!$B$20),ROW()-30+1,MATCH("metrics.max_drawdown.depth",INDEX(_xlfn.ANCHORARRAY(Dados!$B$20),1,0),0)),"")} | G36: {=IFERROR(INDEX(_xlfn.ANCHORARRAY(Dados!$B$20),ROW()-30+1,MATCH("metrics.sharpe",INDEX(_xlfn.ANCHORARRAY(Dados!$B$20),1,0),0)),"")} | H36: {=IFERROR(INDEX(_xlfn.ANCHORARRAY(Dados!$B$20),ROW()-30+1,MATCH("metrics.best_month",INDEX(_xlfn.ANCHORARRAY(Dados!$B$20),1,0),0)),"")} | I36: {=IFERROR(INDEX(_xlfn.ANCHORARRAY(Dados!$B$20),ROW()-30+1,MATCH("metrics.worst_month",INDEX(_xlfn.ANCHORARRAY(Dados!$B$20),1,0),0)),"")}
B37: {=IFERROR(INDEX(_xlfn.ANCHORARRAY(Dados!$B$20),ROW()-30+1,MATCH("code",INDEX(_xlfn.ANCHORARRAY(Dados!$B$20),1,0),0)),"")} | C37: {=IFERROR(INDEX(_xlfn.ANCHORARRAY(Dados!$B$20),ROW()-30+1,MATCH("metrics.total_return",INDEX(_xlfn.ANCHORARRAY(Dados!$B$20),1,0),0)),"")} | D37: {=IFERROR(INDEX(_xlfn.ANCHORARRAY(Dados!$B$20),ROW()-30+1,MATCH("metrics.annualized_return",INDEX(_xlfn.ANCHORARRAY(Dados!$B$20),1,0),0)),"")} | E37: {=IFERROR(INDEX(_xlfn.ANCHORARRAY(Dados!$B$20),ROW()-30+1,MATCH("metrics.volatility",INDEX(_xlfn.ANCHORARRAY(Dados!$B$20),1,0),0)),"")} | F37: {=IFERROR(INDEX(_xlfn.ANCHORARRAY(Dados!$B$20),ROW()-30+1,MATCH("metrics.max_drawdown.depth",INDEX(_xlfn.ANCHORARRAY(Dados!$B$20),1,0),0)),"")} | G37: {=IFERROR(INDEX(_xlfn.ANCHORARRAY(Dados!$B$20),ROW()-30+1,MATCH("metrics.sharpe",INDEX(_xlfn.ANCHORARRAY(Dados!$B$20),1,0),0)),"")} | H37: {=IFERROR(INDEX(_xlfn.ANCHORARRAY(Dados!$B$20),ROW()-30+1,MATCH("metrics.best_month",INDEX(_xlfn.ANCHORARRAY(Dados!$B$20),1,0),0)),"")} | I37: {=IFERROR(INDEX(_xlfn.ANCHORARRAY(Dados!$B$20),ROW()-30+1,MATCH("metrics.worst_month",INDEX(_xlfn.ANCHORARRAY(Dados!$B$20),1,0),0)),"")}
B38: {=IFERROR(INDEX(_xlfn.ANCHORARRAY(Dados!$B$20),ROW()-30+1,MATCH("code",INDEX(_xlfn.ANCHORARRAY(Dados!$B$20),1,0),0)),"")} | C38: {=IFERROR(INDEX(_xlfn.ANCHORARRAY(Dados!$B$20),ROW()-30+1,MATCH("metrics.total_return",INDEX(_xlfn.ANCHORARRAY(Dados!$B$20),1,0),0)),"")} | D38: {=IFERROR(INDEX(_xlfn.ANCHORARRAY(Dados!$B$20),ROW()-30+1,MATCH("metrics.annualized_return",INDEX(_xlfn.ANCHORARRAY(Dados!$B$20),1,0),0)),"")} | E38: {=IFERROR(INDEX(_xlfn.ANCHORARRAY(Dados!$B$20),ROW()-30+1,MATCH("metrics.volatility",INDEX(_xlfn.ANCHORARRAY(Dados!$B$20),1,0),0)),"")} | F38: {=IFERROR(INDEX(_xlfn.ANCHORARRAY(Dados!$B$20),ROW()-30+1,MATCH("metrics.max_drawdown.depth",INDEX(_xlfn.ANCHORARRAY(Dados!$B$20),1,0),0)),"")} | G38: {=IFERROR(INDEX(_xlfn.ANCHORARRAY(Dados!$B$20),ROW()-30+1,MATCH("metrics.sharpe",INDEX(_xlfn.ANCHORARRAY(Dados!$B$20),1,0),0)),"")} | H38: {=IFERROR(INDEX(_xlfn.ANCHORARRAY(Dados!$B$20),ROW()-30+1,MATCH("metrics.best_month",INDEX(_xlfn.ANCHORARRAY(Dados!$B$20),1,0),0)),"")} | I38: {=IFERROR(INDEX(_xlfn.ANCHORARRAY(Dados!$B$20),ROW()-30+1,MATCH("metrics.worst_month",INDEX(_xlfn.ANCHORARRAY(Dados!$B$20),1,0),0)),"")}
B39: {=IFERROR(INDEX(_xlfn.ANCHORARRAY(Dados!$B$20),ROW()-30+1,MATCH("code",INDEX(_xlfn.ANCHORARRAY(Dados!$B$20),1,0),0)),"")} | C39: {=IFERROR(INDEX(_xlfn.ANCHORARRAY(Dados!$B$20),ROW()-30+1,MATCH("metrics.total_return",INDEX(_xlfn.ANCHORARRAY(Dados!$B$20),1,0),0)),"")} | D39: {=IFERROR(INDEX(_xlfn.ANCHORARRAY(Dados!$B$20),ROW()-30+1,MATCH("metrics.annualized_return",INDEX(_xlfn.ANCHORARRAY(Dados!$B$20),1,0),0)),"")} | E39: {=IFERROR(INDEX(_xlfn.ANCHORARRAY(Dados!$B$20),ROW()-30+1,MATCH("metrics.volatility",INDEX(_xlfn.ANCHORARRAY(Dados!$B$20),1,0),0)),"")} | F39: {=IFERROR(INDEX(_xlfn.ANCHORARRAY(Dados!$B$20),ROW()-30+1,MATCH("metrics.max_drawdown.depth",INDEX(_xlfn.ANCHORARRAY(Dados!$B$20),1,0),0)),"")} | G39: {=IFERROR(INDEX(_xlfn.ANCHORARRAY(Dados!$B$20),ROW()-30+1,MATCH("metrics.sharpe",INDEX(_xlfn.ANCHORARRAY(Dados!$B$20),1,0),0)),"")} | H39: {=IFERROR(INDEX(_xlfn.ANCHORARRAY(Dados!$B$20),ROW()-30+1,MATCH("metrics.best_month",INDEX(_xlfn.ANCHORARRAY(Dados!$B$20),1,0),0)),"")} | I39: {=IFERROR(INDEX(_xlfn.ANCHORARRAY(Dados!$B$20),ROW()-30+1,MATCH("metrics.worst_month",INDEX(_xlfn.ANCHORARRAY(Dados!$B$20),1,0),0)),"")}
B40: {=IFERROR(INDEX(_xlfn.ANCHORARRAY(Dados!$B$20),ROW()-30+1,MATCH("code",INDEX(_xlfn.ANCHORARRAY(Dados!$B$20),1,0),0)),"")} | C40: {=IFERROR(INDEX(_xlfn.ANCHORARRAY(Dados!$B$20),ROW()-30+1,MATCH("metrics.total_return",INDEX(_xlfn.ANCHORARRAY(Dados!$B$20),1,0),0)),"")} | D40: {=IFERROR(INDEX(_xlfn.ANCHORARRAY(Dados!$B$20),ROW()-30+1,MATCH("metrics.annualized_return",INDEX(_xlfn.ANCHORARRAY(Dados!$B$20),1,0),0)),"")} | E40: {=IFERROR(INDEX(_xlfn.ANCHORARRAY(Dados!$B$20),ROW()-30+1,MATCH("metrics.volatility",INDEX(_xlfn.ANCHORARRAY(Dados!$B$20),1,0),0)),"")} | F40: {=IFERROR(INDEX(_xlfn.ANCHORARRAY(Dados!$B$20),ROW()-30+1,MATCH("metrics.max_drawdown.depth",INDEX(_xlfn.ANCHORARRAY(Dados!$B$20),1,0),0)),"")} | G40: {=IFERROR(INDEX(_xlfn.ANCHORARRAY(Dados!$B$20),ROW()-30+1,MATCH("metrics.sharpe",INDEX(_xlfn.ANCHORARRAY(Dados!$B$20),1,0),0)),"")} | H40: {=IFERROR(INDEX(_xlfn.ANCHORARRAY(Dados!$B$20),ROW()-30+1,MATCH("metrics.best_month",INDEX(_xlfn.ANCHORARRAY(Dados!$B$20),1,0),0)),"")} | I40: {=IFERROR(INDEX(_xlfn.ANCHORARRAY(Dados!$B$20),ROW()-30+1,MATCH("metrics.worst_month",INDEX(_xlfn.ANCHORARRAY(Dados!$B$20),1,0),0)),"")}
B43: Legenda
B44: Dados conectados | C44: Vêm da Fintay e mudam quando você clica em Fintay > Atualizar dados.
B45: Suas entradas | C45: Ticker, datas e premissas. Atualizar os dados nunca sobrescreve estas células.
B46: Resultados | C46: Calculados a partir dos dados e das suas entradas.

Sheet Dados
B1: fintay | C1: Dados conectados
C2: As tabelas da aba Comparacao leem daqui.
B4: Múltiplos e cadastro
B5: {=Fintay_Ativos_Comparar(_xlfn._xlws.FILTER(Comparacao!$B$5:$B$14,Comparacao!$B$5:$B$14<>""),"price,market_cap,price_to_earnings,price_to_book,dividend_yield,return_on_equity",365)} -> #NAME?
B19: Rentabilidade e risco
B20: {=Fintay_Ativos_Metricas(_xlfn._xlws.FILTER(Comparacao!$B$5:$B$14,Comparacao!$B$5:$B$14<>""),Comparacao!$E$4,"","mensal",Comparacao!$E$5)} -> #NAME?
